0.039
-0.081
-0.081
-0.039
696936.755
4386965.17
