0.04
-0.081
-0.081
-0.04
697113.788
4387040.797
