0.04
-0.081
-0.081
-0.04
697292.548
4387117.079
