0.041
-0.08
-0.08
-0.041
697455.833
4387188.837
