0.041
-0.08
-0.08
-0.041
697616.642
4387259.465
