0.04
-0.081
-0.081
-0.04
697957.076
4387398.429
