0.04
-0.08
-0.08
-0.04
698123.014
4387468.866
