0.039
-0.081
-0.081
-0.039
698299.923
4387532.85
