0.04
-0.081
-0.081
-0.04
698468.099
4387602.601
