0.039
-0.081
-0.081
-0.039
698663.839
4387673.184
