0.039
-0.081
-0.081
-0.039
698810.708
4387736.133
