0.04
-0.081
-0.081
-0.04
698995.485
4387810.473
