0.04
-0.081
-0.081
-0.04
699173.903
4387883.179
