0.04
-0.081
-0.081
-0.04
699341.894
4387950.674
