0.04
-0.081
-0.081
-0.04
699534.385
4388022.894
